BEGIN:VCALENDAR
VERSION:2.0
PRODID:spatie/icalendar-generator
DESCRIPTION:Veranstaltungen von Kannenbäckerei
X-WR-CALDESC:Veranstaltungen von Kannenbäckerei
REFRESH-INTERVAL;VALUE=DURATION:PT1440M
X-PUBLISHED-TTL:PT1440M
BEGIN:VTIMEZONE
TZID:Europe/Berlin
BEGIN:DAYLIGHT
DTSTART:20260329T020000Z
TZOFFSETFROM:+0100
TZOFFSETTO:+0200
END:DAYLIGHT
BEGIN:STANDARD
DTSTART:20261025T030000Z
TZOFFSETFROM:+0200
TZOFFSETTO:+0100
END:STANDARD
END:VTIMEZONE
BEGIN:VTIMEZONE
TZID:UTC
BEGIN:STANDARD
DTSTART:20250724T100801Z
TZOFFSETFROM:+0000
TZOFFSETTO:+0000
END:STANDARD
END:VTIMEZONE
BEGIN:VEVENT
UID:51-44
DTSTAMP:20260420T100801Z
SUMMARY:Töpferkunstmarkt Späthsche Baumschule Berlin
LOCATION:Späthsche Baumschule Späthstr. 80/81  Berlin  12437
ORGANIZER;CN=Susanne Geisler:MAILTO:sannegeisler@arcor.de
DTSTART;TZID=Europe/Berlin:20260815T100000
DTEND;TZID=Europe/Berlin:20260816T180000
X-ALT-DESC;FMTTYPE=TEXT/HTML:der Markt ist Sonnabend und Sonntag von 10:00-
 18:00 geöffnet
CATEGORIES:Märkte
URL;VALUE=URI:https://kannenbaeckerei.de/mc-events/toepferkunstmarkt-spaeth
 sche-baumschule-berlin/
METHOD:PUBLISH
END:VEVENT
END:VCALENDAR