BEGIN:VCALENDAR
VERSION:2.0
PRODID:spatie/icalendar-generator
DESCRIPTION:Veranstaltungen von Kannenbäckerei
X-WR-CALDESC:Veranstaltungen von Kannenbäckerei
REFRESH-INTERVAL;VALUE=DURATION:PT1440M
X-PUBLISHED-TTL:PT1440M
BEGIN:VTIMEZONE
TZID:Europe/Berlin
BEGIN:STANDARD
DTSTART:20251026T030000Z
TZOFFSETFROM:+0200
TZOFFSETTO:+0100
END:STANDARD
BEGIN:DAYLIGHT
DTSTART:20260329T020000Z
TZOFFSETFROM:+0100
TZOFFSETTO:+0200
END:DAYLIGHT
BEGIN:STANDARD
DTSTART:20261025T030000Z
TZOFFSETFROM:+0200
TZOFFSETTO:+0100
END:STANDARD
END:VTIMEZONE
BEGIN:VTIMEZONE
TZID:UTC
BEGIN:STANDARD
DTSTART:20250724T101441Z
TZOFFSETFROM:+0000
TZOFFSETTO:+0000
END:STANDARD
END:VTIMEZONE
BEGIN:VEVENT
UID:47-40
DTSTAMP:20260420T101441Z
SUMMARY:Töpfermarkt Quedlinburg
LOCATION:Töpfermarkt Quedlinburg Markt  Quedlinburg Sachsen-Anhalt 06484
ORGANIZER;CN=Susanne Geisler:MAILTO:sannegeisler@arcor.de
DTSTART;TZID=Europe/Berlin:20260509T100000
DTEND;TZID=Europe/Berlin:20260510T180000
X-ALT-DESC;FMTTYPE=TEXT/HTML:der Töpfermarkt findet auf dem Marktplatz sta
 tt Sonnabend und Sonntag 10:00-18:00
CATEGORIES:Märkte
URL;VALUE=URI:https://kannenbaeckerei.de/mc-events/toepfermarkt-quedlinburg
 -2/
METHOD:PUBLISH
END:VEVENT
END:VCALENDAR