BEGIN:VCALENDAR
VERSION:2.0
PRODID:spatie/icalendar-generator
DESCRIPTION:Veranstaltungen von Kannenbäckerei
X-WR-CALDESC:Veranstaltungen von Kannenbäckerei
REFRESH-INTERVAL;VALUE=DURATION:PT1440M
X-PUBLISHED-TTL:PT1440M
BEGIN:VTIMEZONE
TZID:Europe/Berlin
BEGIN:DAYLIGHT
DTSTART:20260329T020000Z
TZOFFSETFROM:+0100
TZOFFSETTO:+0200
END:DAYLIGHT
BEGIN:STANDARD
DTSTART:20261025T030000Z
TZOFFSETFROM:+0200
TZOFFSETTO:+0100
END:STANDARD
END:VTIMEZONE
BEGIN:VTIMEZONE
TZID:UTC
BEGIN:STANDARD
DTSTART:20250724T125149Z
TZOFFSETFROM:+0000
TZOFFSETTO:+0000
END:STANDARD
END:VTIMEZONE
BEGIN:VEVENT
UID:50-43
DTSTAMP:20260420T125149Z
SUMMARY:23. Töpfermarkt Burg/Spreewald
LOCATION:Töpfermarkt Burg/Spreewald Am Hafen 17  Burg/ Spreewald Brandenbu
 rg 03096
ORGANIZER;CN=Susanne Geisler:MAILTO:sannegeisler@arcor.de
DTSTART;TZID=Europe/Berlin:20260725T100000
DTEND;TZID=Europe/Berlin:20260726T170000
X-ALT-DESC;FMTTYPE=TEXT/HTML:der Töpfermarkt findet am Sonnabend von 10:00
 -18:00 statt und Sonntag von 11:00-17:00 auf dem Festplatz Am Hafen 17
CATEGORIES:Märkte
URL;VALUE=URI:https://kannenbaeckerei.de/mc-events/23-toepfermarkt-burg-spr
 eewald/
METHOD:PUBLISH
END:VEVENT
END:VCALENDAR