BEGIN:VCALENDAR
VERSION:2.0
PRODID:spatie/icalendar-generator
DESCRIPTION:Veranstaltungen von Kannenbäckerei
X-WR-CALDESC:Veranstaltungen von Kannenbäckerei
REFRESH-INTERVAL;VALUE=DURATION:PT1440M
X-PUBLISHED-TTL:PT1440M
BEGIN:VTIMEZONE
TZID:Europe/Berlin
BEGIN:STANDARD
DTSTART:20251026T030000Z
TZOFFSETFROM:+0200
TZOFFSETTO:+0100
END:STANDARD
BEGIN:DAYLIGHT
DTSTART:20260329T020000Z
TZOFFSETFROM:+0100
TZOFFSETTO:+0200
END:DAYLIGHT
BEGIN:STANDARD
DTSTART:20261025T030000Z
TZOFFSETFROM:+0200
TZOFFSETTO:+0100
END:STANDARD
END:VTIMEZONE
BEGIN:VTIMEZONE
TZID:UTC
BEGIN:STANDARD
DTSTART:20250724T125316Z
TZOFFSETFROM:+0000
TZOFFSETTO:+0000
END:STANDARD
END:VTIMEZONE
BEGIN:VEVENT
UID:49-42
DTSTAMP:20260420T125316Z
SUMMARY:Töpfermarkt Beelitz
LOCATION:Töpfermarkt Beelitz Berliner Str. 202  Beelitz Brandenburg 14547
ORGANIZER;CN=Susanne Geisler:MAILTO:sannegeisler@arcor.de
DTSTART;TZID=Europe/Berlin:20260627T100000
DTEND;TZID=Europe/Berlin:20260628T170000
X-ALT-DESC;FMTTYPE=TEXT/HTML:der Markt findet Sonnabend und Sonntag jeweils
  von 10:00-17:00 statt  der Töpfermarkt befindet sich auf dem Gartenscha
 ugelände  - LAGA Beelitz
CATEGORIES:Märkte
URL;VALUE=URI:https://kannenbaeckerei.de/mc-events/toepfermarkt-beelitz/
METHOD:PUBLISH
END:VEVENT
END:VCALENDAR