BEGIN:VCALENDAR
VERSION:2.0
PRODID:spatie/icalendar-generator
DESCRIPTION:Veranstaltungen von Kannenbäckerei
X-WR-CALDESC:Veranstaltungen von Kannenbäckerei
REFRESH-INTERVAL;VALUE=DURATION:PT1440M
X-PUBLISHED-TTL:PT1440M
BEGIN:VTIMEZONE
TZID:Europe/Berlin
BEGIN:STANDARD
DTSTART:20251026T030000Z
TZOFFSETFROM:+0200
TZOFFSETTO:+0100
END:STANDARD
BEGIN:DAYLIGHT
DTSTART:20260329T020000Z
TZOFFSETFROM:+0100
TZOFFSETTO:+0200
END:DAYLIGHT
BEGIN:STANDARD
DTSTART:20261025T030000Z
TZOFFSETFROM:+0200
TZOFFSETTO:+0100
END:STANDARD
END:VTIMEZONE
BEGIN:VTIMEZONE
TZID:UTC
BEGIN:STANDARD
DTSTART:20250724T131802Z
TZOFFSETFROM:+0000
TZOFFSETTO:+0000
END:STANDARD
END:VTIMEZONE
BEGIN:VEVENT
UID:48-41
DTSTAMP:20260420T131802Z
SUMMARY:21.Handwerker-und Töpfermarkt Markkleeberg
LOCATION:Töpfermarkt Markkleeberg Hafenstr. 23  Markkleeberg Sachsen 04416
ORGANIZER;CN=Susanne Geisler:MAILTO:sannegeisler@arcor.de
DTSTART;TZID=Europe/Berlin:20260530T100000
DTEND;TZID=Europe/Berlin:20260531T180000
X-ALT-DESC;FMTTYPE=TEXT/HTML:der Markt findet am Cospudener See (Zöbigker 
 Hafen-Pier 1) statt für das Navi -Hafenstr.23\, 04416 Markkleeberg Sonnab
 end und Sonntag 10:00-18:00
CATEGORIES:Märkte
URL;VALUE=URI:https://kannenbaeckerei.de/mc-events/21-handwerker-und-toepfe
 rmarkt-markkleeberg/
METHOD:PUBLISH
END:VEVENT
END:VCALENDAR